BEGIN:VCALENDAR
VERSION:2.0
PRODID:-//Inclusion Solutions - ECPv6.15.20//NONSGML v1.0//EN
CALSCALE:GREGORIAN
METHOD:PUBLISH
X-WR-CALNAME:Inclusion Solutions
X-ORIGINAL-URL:https://inclusionsolutions.org.au
X-WR-CALDESC:Events for Inclusion Solutions
REFRESH-INTERVAL;VALUE=DURATION:PT1H
X-Robots-Tag:noindex
X-PUBLISHED-TTL:PT1H
BEGIN:VTIMEZONE
TZID:Australia/Perth
BEGIN:STANDARD
TZOFFSETFROM:+0800
TZOFFSETTO:+0800
TZNAME:AWST
DTSTART:20240101T000000
END:STANDARD
END:VTIMEZONE
BEGIN:VEVENT
DTSTART;TZID=Australia/Perth:20250711T090000
DTEND;TZID=Australia/Perth:20250711T164500
DTSTAMP:20260423T230545
CREATED:20250512T052232Z
LAST-MODIFIED:20250512T052647Z
UID:3637-1752224400-1752252300@inclusionsolutions.org.au
SUMMARY:Creating Socially Inclusive Play Spaces
DESCRIPTION:Play spaces are more than just equipment—they’re opportunities for connection\, belonging\, and community. This training dives deep into how local governments can design inclusive and welcoming play environments that better reflect the needs of the community.  \nA snapshot of what we will cover: \n\nExamine social inclusion and explore access and inclusion barriers\nExplore the role and benefits of play on development and health\nAnalyse the importance of inclusive design and discover the benefits of inclusive play spaces\nUnpack the key factors in planning and designing inclusive play spaces\nEvaluate and improve an existing play space\n\nThis workshop is perfect for urban planners\, landscape architects\, parks and recreation teams\, community development officers\, and anyone involved in shaping public play spaces. \nCome along to this brand new workshop to learn how you can better advocate for disability inclusion and design play spaces that truly serve the needs of diverse communities. \n  \n  \n  \n﻿﻿﻿﻿﻿﻿﻿
URL:https://inclusionsolutions.org.au/event/socially-inclusive-play-spaces/
LOCATION:Mount Hawthorn Lesser Hall\, 197 Scarborough Beach Road\, Perth\, Western Australia\, 6016\, Australia
CATEGORIES:Upcoming training
ATTACH;FMTTYPE=image/png:https://inclusionsolutions.org.au/wp-content/uploads/2025/05/Inclusion-Solutions-Training-Creating-Inclusive-Play-Spaces.png
END:VEVENT
BEGIN:VEVENT
DTSTART;TZID=Australia/Perth:20250724T080000
DTEND;TZID=Australia/Perth:20250724T093000
DTSTAMP:20260423T230545
CREATED:20250515T052207Z
LAST-MODIFIED:20250521T020333Z
UID:3651-1753344000-1753349400@inclusionsolutions.org.au
SUMMARY:Webinar: Creating an Accessible and Inclusive Business
DESCRIPTION:Did you know that 1 in 5 customers have a disability in Australia? And for every $1 a business invests in accessibility\, it can generate up to $13 in extra revenue (Monash University). \nIn this webinar\, you will learn how inclusive practices attract new customers and boost your business revenue\, and you will explore strategies and tips you can use to provide a more inclusive customer experience for people with disability. \nDelivered by people with lived experience of disability\, you will learn to: \n\nRecognise the benefits associated with becoming an inclusive business\nDevelop your knowledge of disability and challenge common myths and stereotypes\nDiscover practical adjustments that enhance inclusivity beyond physical accessibility features\nExplore best practices tips for inclusive communication\nIdentify easy-to-implement initiatives for customers with various needs\n\nAfter the webinar\, you will receive additional resources to support your learning via email. It includes: \n\na comprehensive guidebook\,\nvarious accessibility checklists\,\nan access and inclusion plan\,\na certificate of completion.\n\nSome benefits you can expect by becoming more inclusive: \n\nIncreased customer base\,\nBoosted revenue\,\nImproved reputation\,\nAttract and retain talent.\n\nWe want to make sure our webinars are as inclusive as possible. Please let us know if you have any particular accessibility or support requirements to get the most out of this training. \nGet in quick! Tickets are limited! \n  \n﻿﻿﻿
URL:https://inclusionsolutions.org.au/event/webinar-creating-an-accessible-and-inclusive-business/
LOCATION:Online
CATEGORIES:Course,Upcoming training
ATTACH;FMTTYPE=image/png:https://inclusionsolutions.org.au/wp-content/uploads/2024/11/Events-Open-Doors-Project.png
END:VEVENT
END:VCALENDAR