BEGIN:VCALENDAR
VERSION:2.0
PRODID:-//Inclusion Solutions - ECPv6.15.20//NONSGML v1.0//EN
CALSCALE:GREGORIAN
METHOD:PUBLISH
X-ORIGINAL-URL:https://inclusionsolutions.org.au
X-WR-CALDESC:Events for Inclusion Solutions
REFRESH-INTERVAL;VALUE=DURATION:PT1H
X-Robots-Tag:noindex
X-PUBLISHED-TTL:PT1H
BEGIN:VTIMEZONE
TZID:Australia/Perth
BEGIN:STANDARD
TZOFFSETFROM:+0800
TZOFFSETTO:+0800
TZNAME:AWST
DTSTART:20240101T000000
END:STANDARD
END:VTIMEZONE
BEGIN:VEVENT
DTSTART;TZID=Australia/Perth:20250212T130000
DTEND;TZID=Australia/Perth:20250212T140000
DTSTAMP:20260423T140249
CREATED:20241220T031557Z
LAST-MODIFIED:20241220T031557Z
UID:3333-1739365200-1739368800@inclusionsolutions.org.au
SUMMARY:GROW WA | Neurodiversity in the Workplace Webinar
DESCRIPTION:**Free webinar | GROW WA initiative** \nJoin us in this session to grow your awareness of neurodivergence so you can take a more inclusive and informed approach to working within diverse teams. \nThis is part 2 of a four-part webinar series launching from December 2024 to March 2025 as part of the GROW WA – an initiative delivered by Inclusion Solutions and powered by Chamber of Commerce and Industry WA. GROW WA focuses on promoting inclusive employment practices and fostering accessible\, respectful workplaces for everyone in Western Australia. \nThis online webinar is for individuals in any role or sector who wish to understand how to support neurodivergent colleagues better and increase their understanding of neurodivergent individuals in the workplace. \nParticipants attending this webinar will strengthen their understanding of: \n\nNeurodiversity versus neurodivergence\nThe theory and history of neurodivergence\nDebunking myths\, stereotypes\, and assumptions about neurodivergence\nPractical tools to help create an inclusive work environment for neurodivergent people.\n\nTickets \nLearn more about the GROW WA initiative
URL:https://inclusionsolutions.org.au/event/grow-wa-neurodiversity-in-the-workplace/
LOCATION:Online
END:VEVENT
BEGIN:VEVENT
DTSTART;TZID=Australia/Perth:20250226T130000
DTEND;TZID=Australia/Perth:20250226T140000
DTSTAMP:20260423T140250
CREATED:20250206T014453Z
LAST-MODIFIED:20250214T020812Z
UID:3393-1740574800-1740578400@inclusionsolutions.org.au
SUMMARY:GROW WA | Embracing Lived Experience for Businesses Webinar
DESCRIPTION:**Free webinar | GROW WA initiative** \nJoin us in this session\, which is tailored for businesses and organisations aiming to cultivate a more inclusive and diverse workplace by recognising and embracing the unique lived experiences of their team members. Whether individuals have openly shared their lived experiences or kept them private\, these unique journeys often equip them with invaluable insights\, skills\, and perspectives that cannot be replicated merely through academic or external learning. Learn to harness and support your team! \nThis online webinar is for individuals in any role or sector who wish to understand how to bring the best out of staff with lived or living experiences. In this taster workshop. You will learn: \nParticipants attending this webinar will strengthen their understanding of: \n\nThe value of lived/living experiences within a team\nThe important role of power dynamics and intersectionality\nStrategies for Interviewing and Onboarding for Lived Experience Candidates\n\n  \nTickets \nThis is part 3 of a four-part webinar series launching from December 2024 to March 2025 as part of the GROW WA – an initiative delivered by Inclusion Solutions and powered by the Chamber of Commerce and Industry WA. GROW WA focuses on promoting inclusive employment practices and fostering accessible\, respectful workplaces for everyone in Western Australia. \nLearn more about the GROW WA initiative
URL:https://inclusionsolutions.org.au/event/grow-wa-embracing-lived-experience-businesses/
LOCATION:Online
CATEGORIES:Upcoming training
END:VEVENT
BEGIN:VEVENT
DTSTART;TZID=Australia/Perth:20250305T180000
DTEND;TZID=Australia/Perth:20250305T193000
DTSTAMP:20260423T140250
CREATED:20250203T020023Z
LAST-MODIFIED:20241213T025849Z
UID:3247-1741197600-1741203000@inclusionsolutions.org.au
SUMMARY:Webinar: Disability Awareness & Inclusive Customer Experience
DESCRIPTION:Did you know that 1 in 5 customers have a disability in Australia? And for every $1 a business invests in accessibility\, it can generate up to $13 in extra revenue (Monash University). \nIn this free webinar\, you will learn how inclusive practices attract new customers and boost your business revenue and you will explore strategies and tips you can use to provide a more inclusive customer experience for people with disabilities. \nCo-designed with people with lived experience of disability and neurodivergence\, you will learn to: \n\nRecognise the benefits associated with becoming an inclusive business\nDevelop your knowledge of disability and challenge common myths and stereotypes\nDiscover practical adjustments that enhance inclusivity beyond physical accessibility features\nExplore best practices tips for inclusive communication\nIdentify easy-to-implement initiatives for customers with various needs\n\n  \nAfter the webinar\, you will receive additional resources to support your learning via email. It includes: \n\na comprehensive guidebook\,\nvarious accessibility checklists\,\nan access and inclusion plan\,\na certificate of completion.\n\nSome benefits you can expect by becoming more inclusive: \n\nIncreased customer base\,\nBoosted revenue\,\nImproved reputation\,\nAttract and retain talent.\n\nWe want to make sure our webinars are as inclusive as possible. Please let us know if you have any particular accessibility or support requirements to get the most out of this training. \n  \n﻿﻿\n \nThis webinar is part of our Open Doors Project. Learn more about this initiative in and how we work towards increasing disability awareness in WA’s business community.
URL:https://inclusionsolutions.org.au/event/webinar-disability-inclusive-customer-experience/
LOCATION:Online
CATEGORIES:Upcoming training
ATTACH;FMTTYPE=image/png:https://inclusionsolutions.org.au/wp-content/uploads/2024/11/Events-Open-Doors-Project.png
ORGANIZER;CN="Inclusion Solutions":MAILTO:info@inclusionsolutions.org.au
END:VEVENT
BEGIN:VEVENT
DTSTART;TZID=Australia/Perth:20250312T130000
DTEND;TZID=Australia/Perth:20250312T143000
DTSTAMP:20260423T140250
CREATED:20250212T022205Z
LAST-MODIFIED:20250206T022410Z
UID:3397-1741784400-1741789800@inclusionsolutions.org.au
SUMMARY:GROW WA | Create an Inclusive Customer Experience for People With Disability
DESCRIPTION:**Free webinar | GROW WA initiative** \nJoin this free webinar which will give you practical strategies to implement within your own business or service to ensure it is accessible and welcoming for customers with disabilities.   \nLearning outcomes:   \nThis online webinar is for business owners and employees who want to learn how to create accessible environments and deliver services that are welcoming and inclusive for people with disabilities to increase revenue and customer base. \nParticipants attending this webinar will strengthen their understanding of:  \n\nAccessibility tips for physical and digital spaces.\nInclusive language and communication strategies.\nPractical easy-to-implement initiatives to increase inclusivity. \n\n  \nThis webinar also includes comprehensive resources to support learning and showcase commitment to fostering an inclusive environment such as a guidebook and self-assessment checklists.  \n  \nTickets \n  \nThis is part 4 of a four-part webinar series launching from December 2024 to March 2025 as part of CCIWA’s GROW WA initiative. GROW WA focuses on promoting inclusive employment practices and fostering accessible\, respectful workplaces for everyone in Western Australia.  \nLearn more about the GROW WA initiative.
URL:https://inclusionsolutions.org.au/event/grow-wa-inclusive-customer-experience/
LOCATION:Online
CATEGORIES:Upcoming training
END:VEVENT
BEGIN:VEVENT
DTSTART;TZID=Australia/Perth:20250319T070000
DTEND;TZID=Australia/Perth:20250319T083000
DTSTAMP:20260423T140250
CREATED:20250219T020045Z
LAST-MODIFIED:20241121T070058Z
UID:3255-1742367600-1742373000@inclusionsolutions.org.au
SUMMARY:Webinar: Disability Awareness & Inclusive Customer Experience
DESCRIPTION:Did you know that 1 in 5 customers have a disability in Australia? And for every $1 a business invests in accessibility\, it can generate up to $13 in extra revenue (Monash University). \nIn this free webinar\, you will learn how inclusive practices attract new customers and boost your business revenue and you will explore strategies and tips you can use to provide a more inclusive customer experience for people with disabilities. \nCo-designed with people with lived experience of disability and neurodivergence\, you will learn to: \n\nRecognise the benefits associated with becoming an inclusive business\nDevelop your knowledge of disability and challenge common myths and stereotypes\nDiscover practical adjustments that enhance inclusivity beyond physical accessibility features\nExplore best practices tips for inclusive communication\nIdentify easy-to-implement initiatives for customers with various needs\n\n  \nAfter the webinar\, you will receive additional resources to support your learning via email. It includes: \n\na comprehensive guidebook\,\nvarious accessibility checklists\,\nan access and inclusion plan\,\na certificate of completion.\n\nSome benefits you can expect by becoming more inclusive: \n\nIncreased customer base\,\nBoosted revenue\,\nImproved reputation\,\nAttract and retain talent.\n\nWe want to make sure our webinars are as inclusive as possible. Please let us know if you have any particular accessibility or support requirements to get the most out of this training. \n  \n﻿﻿﻿\n \nThis webinar is part of our Open Doors Project. Learn more about this initiative in and how we work towards increasing disability awareness in WA’s business community.
URL:https://inclusionsolutions.org.au/event/webinar-disability-awareness-inclusive-customer-experience/
LOCATION:Online
CATEGORIES:Upcoming training
ATTACH;FMTTYPE=image/png:https://inclusionsolutions.org.au/wp-content/uploads/2024/11/Events-Open-Doors-Project.png
ORGANIZER;CN="Inclusion Solutions":MAILTO:info@inclusionsolutions.org.au
END:VEVENT
BEGIN:VEVENT
DTSTART;TZID=Australia/Perth:20250325T180000
DTEND;TZID=Australia/Perth:20250325T193000
DTSTAMP:20260423T140250
CREATED:20250225T020005Z
LAST-MODIFIED:20241121T065917Z
UID:3257-1742925600-1742931000@inclusionsolutions.org.au
SUMMARY:Webinar: Disability Awareness & Inclusive Customer Experience
DESCRIPTION:Did you know that 1 in 5 customers have a disability in Australia? And for every $1 a business invests in accessibility\, it can generate up to $13 in extra revenue (Monash University). \nIn this free webinar\, you will learn how inclusive practices attract new customers and boost your business revenue and you will explore strategies and tips you can use to provide a more inclusive customer experience for people with disabilities. \nCo-designed with people with lived experience of disability and neurodivergence\, you will learn to: \n\nRecognise the benefits associated with becoming an inclusive business\nDevelop your knowledge of disability and challenge common myths and stereotypes\nDiscover practical adjustments that enhance inclusivity beyond physical accessibility features\nExplore best practices tips for inclusive communication\nIdentify easy-to-implement initiatives for customers with various needs\n\n  \nAfter the webinar\, you will receive additional resources to support your learning via email. It includes: \n\na comprehensive guidebook\,\nvarious accessibility checklists\,\nan access and inclusion plan\,\na certificate of completion.\n\nSome benefits you can expect by becoming more inclusive: \n\nIncreased customer base\,\nBoosted revenue\,\nImproved reputation\,\nAttract and retain talent.\n\nWe want to make sure our webinars are as inclusive as possible. Please let us know if you have any particular accessibility or support requirements to get the most out of this training. \n  \n﻿﻿﻿﻿\n \nThis webinar is part of our Open Doors Project. Learn more about this initiative in and how we work towards increasing disability awareness in WA’s business community.
URL:https://inclusionsolutions.org.au/event/webinar-disability-awareness-inclusive-customer-experience-2/
LOCATION:Online
CATEGORIES:Upcoming training
ATTACH;FMTTYPE=image/png:https://inclusionsolutions.org.au/wp-content/uploads/2024/11/Events-Open-Doors-Project.png
ORGANIZER;CN="Inclusion Solutions":MAILTO:info@inclusionsolutions.org.au
END:VEVENT
BEGIN:VEVENT
DTSTART;TZID=Australia/Perth:20250408T093000
DTEND;TZID=Australia/Perth:20250408T160000
DTSTAMP:20260423T140250
CREATED:20250214T014229Z
LAST-MODIFIED:20250221T060050Z
UID:3404-1744104600-1744128000@inclusionsolutions.org.au
SUMMARY:Inclusive Employment Forum
DESCRIPTION:The Inclusive Employment Forum is proudly presented by Inclusion Solutions and powered by the Chamber of Commerce and Industry WA (CCIWA).  It is a key part of the Generating Respectful\, Open Workplaces in WA (GROW WA) Initiative. \nJoin us for a full day forum to explore the benefits of workplaces that hire & support people with disability\, and to learn how you can create more inclusive and accessible workplaces. You will hear from people with lived disability experience\, industry guest speakers and a live panel discussion.  There will also be a range of stallholders showcasing their services\, resources\, and the incredible work they do to create inclusive work environments. If you are a senior leader\, HR professional\, manager\, employer\, team leader or just interested in inclusive employment then this is the event for you.\n\nCome along and you will learn about:  \n\nThe social impact and economic benefits of hiring staff with disability.\nInclusive hiring\, recruitment and retention practices.\nStrategies and practices you can implement to create a more inclusive workplace.\n\n\nGuest speaker and panellist details to be released soon.  \nTea/coffee\, morning tea\, lunch and afternoon tea will be provided\, and there will be ample time to connect with other people and network during the course of the day. \nAccessibility: \nThe Beaumonde on the Point is a wheelchair-accessible venue.  It has ramps from the carpark to the venue\, and lift access to the first floor where the function room for this event is located.   There will be a low-sensory/quiet space designated on the day for people to use as required. If you have any specific access needs\, questions or concerns\, please contact us at kimberleye@inclusionsolutions.org.au prior to the event. A site map is attached below – the blue arrow indicates the direction you will come from the carpark to access the event. \n\nParking:\nThe first hour of parking is free\, then $3 for every hour thereafter.  There is a free bus that runs to the venue from St George’s Terrace (Bus 24).  There are ACROD parking bays available at the front of the venue. \n \n﻿﻿
URL:https://inclusionsolutions.org.au/event/inclusive-employment-forum/
LOCATION:Beaumonde On The Point\, 306 Riverside Drive\, East Perth\, Western Australia\, 6004\, Australia
CATEGORIES:Events
ATTACH;FMTTYPE=image/png:https://inclusionsolutions.org.au/wp-content/uploads/2025/02/Inclusion-Solutions-Inclusive-Employment-Forum.png
ORGANIZER;CN="Inclusion Solutions":MAILTO:info@inclusionsolutions.org.au
END:VEVENT
BEGIN:VEVENT
DTSTART;TZID=Australia/Perth:20250430T170000
DTEND;TZID=Australia/Perth:20250430T183000
DTSTAMP:20260423T140250
CREATED:20250330T020028Z
LAST-MODIFIED:20241121T071332Z
UID:3263-1746032400-1746037800@inclusionsolutions.org.au
SUMMARY:Webinar: Disability Awareness & Inclusive Customer Experience
DESCRIPTION:Did you know that 1 in 5 customers have a disability in Australia? And for every $1 a business invests in accessibility\, it can generate up to $13 in extra revenue (Monash University). \nIn this free webinar\, you will learn how inclusive practices attract new customers and boost your business revenue and you will explore strategies and tips you can use to provide a more inclusive customer experience for people with disabilities. \nCo-designed with people with lived experience of disability and neurodivergence\, you will learn to: \n\nRecognise the benefits associated with becoming an inclusive business\nDevelop your knowledge of disability and challenge common myths and stereotypes\nDiscover practical adjustments that enhance inclusivity beyond physical accessibility features\nExplore best practices tips for inclusive communication\nIdentify easy-to-implement initiatives for customers with various needs\n\n  \nAfter the webinar\, you will receive additional resources to support your learning via email. It includes: \n\na comprehensive guidebook\,\nvarious accessibility checklists\,\nan access and inclusion plan\,\na certificate of completion.\n\nSome benefits you can expect by becoming more inclusive: \n\nIncreased customer base\,\nBoosted revenue\,\nImproved reputation\,\nAttract and retain talent.\n\nWe want to make sure our webinars are as inclusive as possible. Please let us know if you have any particular accessibility or support requirements to get the most out of this training. \n  \n﻿﻿﻿﻿﻿﻿\n \nThis webinar is part of our Open Doors Project. Learn more about this initiative in and how we work towards increasing disability awareness in WA’s business community.
URL:https://inclusionsolutions.org.au/event/webinar-disability-awareness-inclusive-customer-experience-4/
LOCATION:Online
CATEGORIES:Upcoming training
ATTACH;FMTTYPE=image/png:https://inclusionsolutions.org.au/wp-content/uploads/2024/11/Events-Open-Doors-Project.png
ORGANIZER;CN="Inclusion Solutions":MAILTO:info@inclusionsolutions.org.au
END:VEVENT
BEGIN:VEVENT
DTSTART;TZID=Australia/Perth:20250711T090000
DTEND;TZID=Australia/Perth:20250711T164500
DTSTAMP:20260423T140250
CREATED:20250512T052232Z
LAST-MODIFIED:20250512T052647Z
UID:3637-1752224400-1752252300@inclusionsolutions.org.au
SUMMARY:Creating Socially Inclusive Play Spaces
DESCRIPTION:Play spaces are more than just equipment—they’re opportunities for connection\, belonging\, and community. This training dives deep into how local governments can design inclusive and welcoming play environments that better reflect the needs of the community.  \nA snapshot of what we will cover: \n\nExamine social inclusion and explore access and inclusion barriers\nExplore the role and benefits of play on development and health\nAnalyse the importance of inclusive design and discover the benefits of inclusive play spaces\nUnpack the key factors in planning and designing inclusive play spaces\nEvaluate and improve an existing play space\n\nThis workshop is perfect for urban planners\, landscape architects\, parks and recreation teams\, community development officers\, and anyone involved in shaping public play spaces. \nCome along to this brand new workshop to learn how you can better advocate for disability inclusion and design play spaces that truly serve the needs of diverse communities. \n  \n  \n  \n﻿﻿﻿﻿﻿﻿﻿
URL:https://inclusionsolutions.org.au/event/socially-inclusive-play-spaces/
LOCATION:Mount Hawthorn Lesser Hall\, 197 Scarborough Beach Road\, Perth\, Western Australia\, 6016\, Australia
CATEGORIES:Upcoming training
ATTACH;FMTTYPE=image/png:https://inclusionsolutions.org.au/wp-content/uploads/2025/05/Inclusion-Solutions-Training-Creating-Inclusive-Play-Spaces.png
END:VEVENT
BEGIN:VEVENT
DTSTART;TZID=Australia/Perth:20250724T080000
DTEND;TZID=Australia/Perth:20250724T093000
DTSTAMP:20260423T140250
CREATED:20250515T052207Z
LAST-MODIFIED:20250521T020333Z
UID:3651-1753344000-1753349400@inclusionsolutions.org.au
SUMMARY:Webinar: Creating an Accessible and Inclusive Business
DESCRIPTION:Did you know that 1 in 5 customers have a disability in Australia? And for every $1 a business invests in accessibility\, it can generate up to $13 in extra revenue (Monash University). \nIn this webinar\, you will learn how inclusive practices attract new customers and boost your business revenue\, and you will explore strategies and tips you can use to provide a more inclusive customer experience for people with disability. \nDelivered by people with lived experience of disability\, you will learn to: \n\nRecognise the benefits associated with becoming an inclusive business\nDevelop your knowledge of disability and challenge common myths and stereotypes\nDiscover practical adjustments that enhance inclusivity beyond physical accessibility features\nExplore best practices tips for inclusive communication\nIdentify easy-to-implement initiatives for customers with various needs\n\nAfter the webinar\, you will receive additional resources to support your learning via email. It includes: \n\na comprehensive guidebook\,\nvarious accessibility checklists\,\nan access and inclusion plan\,\na certificate of completion.\n\nSome benefits you can expect by becoming more inclusive: \n\nIncreased customer base\,\nBoosted revenue\,\nImproved reputation\,\nAttract and retain talent.\n\nWe want to make sure our webinars are as inclusive as possible. Please let us know if you have any particular accessibility or support requirements to get the most out of this training. \nGet in quick! Tickets are limited! \n  \n﻿﻿﻿
URL:https://inclusionsolutions.org.au/event/webinar-creating-an-accessible-and-inclusive-business/
LOCATION:Online
CATEGORIES:Course,Upcoming training
ATTACH;FMTTYPE=image/png:https://inclusionsolutions.org.au/wp-content/uploads/2024/11/Events-Open-Doors-Project.png
END:VEVENT
BEGIN:VEVENT
DTSTART;TZID=Australia/Perth:20250812T153000
DTEND;TZID=Australia/Perth:20250812T170000
DTSTAMP:20260423T140250
CREATED:20250521T020959Z
LAST-MODIFIED:20250521T020959Z
UID:3657-1755012600-1755018000@inclusionsolutions.org.au
SUMMARY:Webinar: Creating an Accessible and Inclusive Business
DESCRIPTION:Did you know that 1 in 5 customers have a disability in Australia? And for every $1 a business invests in accessibility\, it can generate up to $13 in extra revenue (Monash University). \nIn this webinar\, you will learn how inclusive practices attract new customers and boost your business revenue\, and you will explore strategies and tips you can use to provide a more inclusive customer experience for people with disability. \nDelivered by people with lived experience of disability\, you will learn to: \n\nRecognise the benefits associated with becoming an inclusive business\nDevelop your knowledge of disability and challenge common myths and stereotypes\nDiscover practical adjustments that enhance inclusivity beyond physical accessibility features\nExplore best practices tips for inclusive communication\nIdentify easy-to-implement initiatives for customers with various needs\n\nAfter the webinar\, you will receive additional resources to support your learning via email. It includes: \n\na comprehensive guidebook\,\nvarious accessibility checklists\,\nan access and inclusion plan\,\na certificate of completion.\n\nSome benefits you can expect by becoming more inclusive: \n\nIncreased customer base\,\nBoosted revenue\,\nImproved reputation\,\nAttract and retain talent.\n\nWe want to make sure our webinars are as inclusive as possible. Please let us know if you have any particular accessibility or support requirements to get the most out of this training. \nGet in quick! Tickets are limited! \n  \n﻿﻿﻿
URL:https://inclusionsolutions.org.au/event/webinar-creating-accessible-and-inclusive-business-12-august/
LOCATION:Online
CATEGORIES:Course,Upcoming training
ATTACH;FMTTYPE=image/png:https://inclusionsolutions.org.au/wp-content/uploads/2024/11/Events-Open-Doors-Project.png
END:VEVENT
BEGIN:VEVENT
DTSTART;TZID=Australia/Perth:20251112T093000
DTEND;TZID=Australia/Perth:20251112T113000
DTSTAMP:20260423T140250
CREATED:20251016T022845Z
LAST-MODIFIED:20251016T023020Z
UID:3825-1762939800-1762947000@inclusionsolutions.org.au
SUMMARY:Discover the Kwinana WayFairer Program
DESCRIPTION:Join us for this free event and learn about the Kwinana WayFairer Program – an exciting new initiative connecting older adults to local volunteer opportunities. \nThe WayFairer Program works alongside older adults to really understand their unique skills\, talent and interests and to match them with local groups\, clubs\, schools and businesses who are in need of volunteer support. It is a mutually beneficial partnership which benefits all of community and keeps our local older adults socially connected\, contributing and learning new skills! \nEnjoy an informative presentation\, morning tea\, entertainment and a fun group activity to connect\, and reflect on your life\, talent and skills. \nWe hope to see you there! \nIf you have any questions\, or specific access requirements please let us know at wayfairers@inclusionsolutions.org.au or call us on (08) 9443 7226. \n  \n﻿﻿﻿﻿
URL:https://inclusionsolutions.org.au/event/discover-the-kwinana-wayfairer-program/
LOCATION:Ken Jackman Hall\, 2 Robbos Way\, Kwinana\, Western Australia\, 6167\, Australia
CATEGORIES:Events
ORGANIZER;CN="Inclusion Solutions":MAILTO:info@inclusionsolutions.org.au
END:VEVENT
BEGIN:VEVENT
DTSTART;TZID=Australia/Perth:20251212T103000
DTEND;TZID=Australia/Perth:20251212T143000
DTSTAMP:20260423T140250
CREATED:20251113T004206Z
LAST-MODIFIED:20251203T023248Z
UID:3852-1765535400-1765549800@inclusionsolutions.org.au
SUMMARY:Come and Try Sports Day in Mandurah
DESCRIPTION:This free event is for people with disability of all ages\, with a focus on intellectual disability and autism\, who want to try different sports and enjoy being active. It is an inclusive event\, and everyone is welcome. \nFamily and support people are welcome too. \nThis day is all about having a go\, having fun\, and enjoying sports. Our venue is wheelchair-accessible\, and there is a low-sensory space available. \nNo need to register your attendance\, just show up on the day! \nIf you need help or have questions\, contact Ciara Cooney on 0499 741 022 or email ciarac@inclusionsolutions.org.au \n  \nThis event is proudly supported by the City of Mandurah with support from the WA Government.
URL:https://inclusionsolutions.org.au/event/come-and-try-sports-day/
LOCATION:Mandurah Aquatic and Recreation Centre\, 303 Pinjarra Road\, Mandurah\, Western Australia\, 6210\, Australia
CATEGORIES:Events
ORGANIZER;CN="Inclusion Solutions":MAILTO:info@inclusionsolutions.org.au
END:VEVENT
BEGIN:VEVENT
DTSTART;TZID=Australia/Perth:20260603T090000
DTEND;TZID=Australia/Perth:20260603T164500
DTSTAMP:20260423T140250
CREATED:20260407T010707Z
LAST-MODIFIED:20260407T011611Z
UID:4023-1780477200-1780505100@inclusionsolutions.org.au
SUMMARY:Creating Socially Inclusive Play Spaces - Full Day Training
DESCRIPTION:Join us for a full-day workshop and collaborative exploration of how to create play spaces that welcome everyone. \nThis interactive workshop will unpack the meaning of social inclusion and help you distinguish between access and true inclusion. Through engaging activities and case studies\, you’ll identify common barriers and explore practical\, inclusive design solutions. You’ll gain insight into the impact of community attitudes toward people with disability and how these shape experiences and participation. \nTogether\, we’ll also explore the power of play in children’s development—emotionally\, physically\, socially\, and beyond—and define what makes a play space genuinely inclusive. You’ll come away being able to better evaluate play environments\, plan inclusive features\, and justify design choices that meet the diverse needs of communities across Australia. \nWhether you’re a designer\, educator\, planner\, or advocate\, this training will equip you with the knowledge and tools to champion inclusive play for all. \nMorning tea\, lunch and afternoon tea will be provided. \n﻿﻿﻿
URL:https://inclusionsolutions.org.au/event/socially-inclusive-play-spaces-training/
LOCATION:Inclusion WA\, 4/61 Walters Drive\, Osbourne Park\, Perth\, Western Australia\, 6017\, Australia
CATEGORIES:Upcoming training
END:VEVENT
END:VCALENDAR